BEGIN:VCALENDAR
VERSION:2.0
PRODID:-//Pennsylvania Anthracite Heritage Museum - ECPv6.10.0//NONSGML v1.0//EN
CALSCALE:GREGORIAN
METHOD:PUBLISH
X-ORIGINAL-URL:https://www.anthracitemuseum.org
X-WR-CALDESC:Events for Pennsylvania Anthracite Heritage Museum
REFRESH-INTERVAL;VALUE=DURATION:PT1H
X-Robots-Tag:noindex
X-PUBLISHED-TTL:PT1H
BEGIN:VTIMEZONE
TZID:UTC
BEGIN:STANDARD
TZOFFSETFROM:+0000
TZOFFSETTO:+0000
TZNAME:UTC
DTSTART:20250101T000000
END:STANDARD
END:VTIMEZONE
BEGIN:VEVENT
DTSTART;TZID=UTC:20250212T190000
DTEND;TZID=UTC:20250212T201500
DTSTAMP:20260423T114331
CREATED:20250114T192440Z
LAST-MODIFIED:20250219T221118Z
UID:1281-1739386800-1739391300@www.anthracitemuseum.org
SUMMARY:Careers in Context\, A Virtual Career Chat
DESCRIPTION:Ever wondered what it takes to become a park ranger\, a museum curator\, a librarian\, even a mine engineer? Well\, join us for Careers in Context\, Virtual Career Chat Series\, to learn about these careers and more. During this program\, you’ll have a chance to chat with a museum curator\, park ranger\, environmental educator\, librarian\, and mine engineer.   \nThis program features John Voigt\, Penn-Anthracite SME\, John Fielding\, Anthracite Heritage Museum\, Alexis Weber\, Nescopeck State Park\, and a surprise guests from Steamtown National Historic Site and Lackawanna County Library System.  \nIf you want an overview of the day in the life of these professionals\, register for Session I: Day in the Life. If you want to have a more in-depth look at these careers – education\, career path\, internships\, etc – join us for Session II: Deep Dive (or both sessions). Details below –   \nSession I – Day in the Life – Feb 12\, 7pm – 8:15pm   \nOverview of position\, day in the life of each profession\, Career Spotlight video\, Q&A.    \nZoom link: https://us02web.zoom.us/j/83670744029?pwd=CKh5oxtD018w1Gg6tqR3VbiBtd51Qa.1c \n***Pre-registration is not required\, but highly appreciated. \nSession II – Deep Dive – Feb 19\, 7pm – 8:15pm   \nA deeper dive into the education\, career scope and path\, internships\, associations\, and more of each profession\, Career Spotlight video\, Q&A.  \nZoom link: https://us02web.zoom.us/j/85045881760?pwd=0ogCxxy57WUUeAZoCNcKCa8O0T7dtf.1 \nFirst Name *Last Name (adults only)Email Address *Phone NumberEvent Details0 / 180Select *Career Chat SessionsSession I - Day in the Life - Feb 12\, 7pmSession II - Deep Dive - Feb 19\, 7pmBoth Sessions (Feb 12 & Feb 19\, 7pm)Please choose one or both sessions.Register
URL:https://www.anthracitemuseum.org/event/careers-in-context-a-virtual-career-chat/
END:VEVENT
END:VCALENDAR